BEGIN:VCALENDAR
VERSION:2.0
PRODID:-//Gird Training - ECPv6.15.20//NONSGML v1.0//EN
CALSCALE:GREGORIAN
METHOD:PUBLISH
X-WR-CALNAME:Gird Training
X-ORIGINAL-URL:https://girdghana.com
X-WR-CALDESC:Events for Gird Training
REFRESH-INTERVAL;VALUE=DURATION:PT1H
X-Robots-Tag:noindex
X-PUBLISHED-TTL:PT1H
BEGIN:VTIMEZONE
TZID:UTC
BEGIN:STANDARD
TZOFFSETFROM:+0000
TZOFFSETTO:+0000
TZNAME:UTC
DTSTART:20250101T000000
END:STANDARD
END:VTIMEZONE
BEGIN:VEVENT
DTSTART;TZID=UTC:20260803T000000
DTEND;TZID=UTC:20260807T235959
DTSTAMP:20260425T091140
CREATED:20251106T140008Z
LAST-MODIFIED:20251106T140038Z
UID:7189-1785715200-1786147199@girdghana.com
SUMMARY:Strategic Management Development for Leadership and Executives Training Program - Dubai
DESCRIPTION:
URL:https://girdghana.com/course/strategic-management-development-for-leadership-and-executives-training-program/
END:VEVENT
BEGIN:VEVENT
DTSTART;TZID=UTC:20260803T000000
DTEND;TZID=UTC:20260807T235959
DTSTAMP:20260425T091140
CREATED:20251106T140528Z
LAST-MODIFIED:20251106T140529Z
UID:7196-1785715200-1786147199@girdghana.com
SUMMARY:HR Policies and Procedures and Implementation Development Training Program - Dubai
DESCRIPTION:
URL:https://girdghana.com/course/hr-policies-and-procedures-and-implementation-development-training-program-dubai/
END:VEVENT
BEGIN:VEVENT
DTSTART;TZID=UTC:20260810T000000
DTEND;TZID=UTC:20260814T235959
DTSTAMP:20260425T091140
CREATED:20251106T141817Z
LAST-MODIFIED:20251106T141819Z
UID:7200-1786320000-1786751999@girdghana.com
SUMMARY:High Impact Finance and Audit for Board and Directors Training Program - Dubai
DESCRIPTION:
URL:https://girdghana.com/course/high-impact-finance-and-audit-for-board-and-directors-training-program-dubai-2/
END:VEVENT
BEGIN:VEVENT
DTSTART;TZID=UTC:20260810T000000
DTEND;TZID=UTC:20260814T235959
DTSTAMP:20260425T091140
CREATED:20251106T141953Z
LAST-MODIFIED:20251106T141954Z
UID:7202-1786320000-1786751999@girdghana.com
SUMMARY:Enterprise Risk Management Training Program - Dubai
DESCRIPTION:
URL:https://girdghana.com/course/enterprise-risk-management-training-program-dubai/
END:VEVENT
BEGIN:VEVENT
DTSTART;TZID=UTC:20260810T000000
DTEND;TZID=UTC:20260821T235959
DTSTAMP:20260425T091140
CREATED:20251106T140819Z
LAST-MODIFIED:20251106T140821Z
UID:7198-1786320000-1787356799@girdghana.com
SUMMARY:Financial Management for Development Projects and Effective Budget Execution Training Program - London (UK)
DESCRIPTION:
URL:https://girdghana.com/course/financial-management-for-development-projects-and-effective-budget-execution-training-program-london-uk/
END:VEVENT
BEGIN:VEVENT
DTSTART;TZID=UTC:20260824T000000
DTEND;TZID=UTC:20260828T235959
DTSTAMP:20260425T091140
CREATED:20251106T140233Z
LAST-MODIFIED:20251106T140235Z
UID:7192-1787529600-1787961599@girdghana.com
SUMMARY:Managing - Leading and Coaching for Performance Workshop - Dubai
DESCRIPTION:
URL:https://girdghana.com/course/managing-leading-and-coaching-for-performance-workshop-dubai/
END:VEVENT
BEGIN:VEVENT
DTSTART;TZID=UTC:20260824T000000
DTEND;TZID=UTC:20260828T235959
DTSTAMP:20260425T091140
CREATED:20251106T140341Z
LAST-MODIFIED:20251106T140342Z
UID:7194-1787529600-1787961599@girdghana.com
SUMMARY:Retirement Planning Workshop - Dubai
DESCRIPTION:
URL:https://girdghana.com/course/retirement-planning-workshop-dubai-2/
END:VEVENT
END:VCALENDAR