BEGIN:VCALENDAR
VERSION:2.0
PRODID:-//Gird Training - ECPv6.15.20//NONSGML v1.0//EN
CALSCALE:GREGORIAN
METHOD:PUBLISH
X-WR-CALNAME:Gird Training
X-ORIGINAL-URL:https://girdghana.com
X-WR-CALDESC:Events for Gird Training
REFRESH-INTERVAL;VALUE=DURATION:PT1H
X-Robots-Tag:noindex
X-PUBLISHED-TTL:PT1H
BEGIN:VTIMEZONE
TZID:UTC
BEGIN:STANDARD
TZOFFSETFROM:+0000
TZOFFSETTO:+0000
TZNAME:UTC
DTSTART:20250101T000000
END:STANDARD
END:VTIMEZONE
BEGIN:VEVENT
DTSTART;TZID=UTC:20260601T000000
DTEND;TZID=UTC:20260605T235959
DTSTAMP:20260425T174002
CREATED:20251106T133821Z
LAST-MODIFIED:20251106T133823Z
UID:7181-1780272000-1780703999@girdghana.com
SUMMARY:Evaluation and Impact Assessment of Policies and Project Training Program - Accra
DESCRIPTION:
URL:https://girdghana.com/course/evaluation-and-impact-assessment-of-policies-and-project-training-program-accra/
END:VEVENT
BEGIN:VEVENT
DTSTART;TZID=UTC:20260608T000000
DTEND;TZID=UTC:20260612T235959
DTSTAMP:20260425T174002
CREATED:20251106T132318Z
LAST-MODIFIED:20251106T132319Z
UID:7173-1780876800-1781308799@girdghana.com
SUMMARY:Internal Control\, Compliance and Operations Management Training Program - London(UK)
DESCRIPTION:
URL:https://girdghana.com/course/internal-control-compliance-and-operations-management-training-program-londonuk/
END:VEVENT
BEGIN:VEVENT
DTSTART;TZID=UTC:20260608T000000
DTEND;TZID=UTC:20260612T235959
DTSTAMP:20260425T174002
CREATED:20251106T133441Z
LAST-MODIFIED:20251106T133442Z
UID:7177-1780876800-1781308799@girdghana.com
SUMMARY:Executive Financial Management Analysis Training Program - London (UK)
DESCRIPTION:
URL:https://girdghana.com/course/executive-financial-management-analysis-training-program-london-uk/
END:VEVENT
BEGIN:VEVENT
DTSTART;TZID=UTC:20260615T000000
DTEND;TZID=UTC:20260619T235959
DTSTAMP:20260425T174002
CREATED:20251106T132105Z
LAST-MODIFIED:20251106T132106Z
UID:7171-1781481600-1781913599@girdghana.com
SUMMARY:Public and Financial Sector Fraud Detection\, Prevention and Control Training Program - Accra
DESCRIPTION:
URL:https://girdghana.com/course/public-and-financial-sector-fraud-detection-prevention-and-control-training-program-accra/
END:VEVENT
BEGIN:VEVENT
DTSTART;TZID=UTC:20260615T000000
DTEND;TZID=UTC:20260619T235959
DTSTAMP:20260425T174002
CREATED:20251106T132714Z
LAST-MODIFIED:20251106T132715Z
UID:7175-1781481600-1781913599@girdghana.com
SUMMARY:Sustainable Public Procurement Workshop: Strategy\, Policy and Best Practice - Canada
DESCRIPTION:
URL:https://girdghana.com/course/sustainable-public-procurement-workshop-strategy-policy-and-best-practice-canada/
END:VEVENT
BEGIN:VEVENT
DTSTART;TZID=UTC:20260615T000000
DTEND;TZID=UTC:20260619T235959
DTSTAMP:20260425T174002
CREATED:20251106T133613Z
LAST-MODIFIED:20251106T133614Z
UID:7179-1781481600-1781913599@girdghana.com
SUMMARY:IFRS S1 & S2 Sustainability Reporting Training Program - Canada
DESCRIPTION:
URL:https://girdghana.com/course/ifrs-s1-s2-sustainability-reporting-training-program-canada/
END:VEVENT
BEGIN:VEVENT
DTSTART;TZID=UTC:20260622T000000
DTEND;TZID=UTC:20260626T235959
DTSTAMP:20260425T174002
CREATED:20251106T131656Z
LAST-MODIFIED:20251106T131658Z
UID:7167-1782086400-1782518399@girdghana.com
SUMMARY:Crises Management Training Program - Dubai
DESCRIPTION:
URL:https://girdghana.com/course/crises-management-training-program-dubai/
END:VEVENT
BEGIN:VEVENT
DTSTART;TZID=UTC:20260622T000000
DTEND;TZID=UTC:20260626T235959
DTSTAMP:20260425T174002
CREATED:20251106T131855Z
LAST-MODIFIED:20251106T131911Z
UID:7169-1782086400-1782518399@girdghana.com
SUMMARY:High Impact Leadership Training Program - Seychelles
DESCRIPTION:
URL:https://girdghana.com/course/high-impact-leadership-training-program-seychelles/
END:VEVENT
END:VCALENDAR