BEGIN:VCALENDAR
VERSION:2.0
PRODID:-//Gird Training - ECPv6.15.20//NONSGML v1.0//EN
CALSCALE:GREGORIAN
METHOD:PUBLISH
X-ORIGINAL-URL:https://girdghana.com
X-WR-CALDESC:Events for Gird Training
REFRESH-INTERVAL;VALUE=DURATION:PT1H
X-Robots-Tag:noindex
X-PUBLISHED-TTL:PT1H
BEGIN:VTIMEZONE
TZID:UTC
BEGIN:STANDARD
TZOFFSETFROM:+0000
TZOFFSETTO:+0000
TZNAME:UTC
DTSTART:20250101T000000
END:STANDARD
END:VTIMEZONE
BEGIN:VEVENT
DTSTART;TZID=UTC:20260504T000000
DTEND;TZID=UTC:20260508T235959
DTSTAMP:20260425T161550
CREATED:20251106T123457Z
LAST-MODIFIED:20251106T123459Z
UID:7147-1777852800-1778284799@girdghana.com
SUMMARY:Strategic Thinking and Planning Training Program - Dubai
DESCRIPTION:
URL:https://girdghana.com/course/strategic-thinking-and-planning-training-program-dubai/
END:VEVENT
BEGIN:VEVENT
DTSTART;TZID=UTC:20260504T000000
DTEND;TZID=UTC:20260508T235959
DTSTAMP:20260425T161550
CREATED:20251106T130648Z
LAST-MODIFIED:20251106T130650Z
UID:7159-1777852800-1778284799@girdghana.com
SUMMARY:Leadership Skills for HR Managers Training Program - Canada
DESCRIPTION:
URL:https://girdghana.com/course/leadership-skills-for-hr-managers-training-program-canada/
END:VEVENT
BEGIN:VEVENT
DTSTART;TZID=UTC:20260504T000000
DTEND;TZID=UTC:20260508T235959
DTSTAMP:20260425T161550
CREATED:20251106T131129Z
LAST-MODIFIED:20251106T131131Z
UID:7163-1777852800-1778284799@girdghana.com
SUMMARY:PPP Procurement and Contract Management Training Program - Dubai
DESCRIPTION:
URL:https://girdghana.com/course/ppp-procurement-and-contract-management-training-program-dubai/
END:VEVENT
BEGIN:VEVENT
DTSTART;TZID=UTC:20260511T000000
DTEND;TZID=UTC:20260515T235959
DTSTAMP:20260425T161550
CREATED:20251106T123645Z
LAST-MODIFIED:20251106T123646Z
UID:7149-1778457600-1778889599@girdghana.com
SUMMARY:Strategic Planning and Leadership Workshop - Dubai
DESCRIPTION:
URL:https://girdghana.com/course/strategic-planning-and-leadership-workshop-dubai/
END:VEVENT
BEGIN:VEVENT
DTSTART;TZID=UTC:20260511T000000
DTEND;TZID=UTC:20260515T235959
DTSTAMP:20260425T161550
CREATED:20251106T125743Z
LAST-MODIFIED:20251106T125744Z
UID:7153-1778457600-1778889599@girdghana.com
SUMMARY:Negotiation and Value for Money Training Program - Dubai
DESCRIPTION:
URL:https://girdghana.com/course/negotiation-and-value-for-money-training-program-dubai/
END:VEVENT
BEGIN:VEVENT
DTSTART;TZID=UTC:20260511T000000
DTEND;TZID=UTC:20260515T235959
DTSTAMP:20260425T161550
CREATED:20251106T125850Z
LAST-MODIFIED:20251106T125852Z
UID:7155-1778457600-1778889599@girdghana.com
SUMMARY:Retirement Planning Workshop - Accra
DESCRIPTION:
URL:https://girdghana.com/course/retirement-planning-workshop-accra/
END:VEVENT
BEGIN:VEVENT
DTSTART;TZID=UTC:20260518T000000
DTEND;TZID=UTC:20260522T235959
DTSTAMP:20260425T161550
CREATED:20251106T130431Z
LAST-MODIFIED:20251106T130433Z
UID:7157-1779062400-1779494399@girdghana.com
SUMMARY:HR Business Partner: Role Responsibilities and Competences Training Program
DESCRIPTION:
URL:https://girdghana.com/course/hr-business-partner-role-responsibilities-and-competences-training-program/
END:VEVENT
BEGIN:VEVENT
DTSTART;TZID=UTC:20260518T000000
DTEND;TZID=UTC:20260522T235959
DTSTAMP:20260425T161550
CREATED:20251106T130827Z
LAST-MODIFIED:20251106T130828Z
UID:7161-1779062400-1779494399@girdghana.com
SUMMARY:Forensic Accounting and Fraud Control Workshop - Dubai
DESCRIPTION:
URL:https://girdghana.com/course/forensic-accounting-and-fraud-control-workshop-dubai/
END:VEVENT
BEGIN:VEVENT
DTSTART;TZID=UTC:20260518T000000
DTEND;TZID=UTC:20260522T235959
DTSTAMP:20260425T161550
CREATED:20251106T131300Z
LAST-MODIFIED:20251106T131302Z
UID:7165-1779062400-1779494399@girdghana.com
SUMMARY:PPP Project Finance and Infrastructure Training Program - Dubai
DESCRIPTION:
URL:https://girdghana.com/course/ppp-project-finance-and-infrastructure-training-program-dubai/
END:VEVENT
BEGIN:VEVENT
DTSTART;TZID=UTC:20260525T000000
DTEND;TZID=UTC:20260529T235959
DTSTAMP:20260425T161550
CREATED:20251106T125613Z
LAST-MODIFIED:20251106T125614Z
UID:7151-1779667200-1780099199@girdghana.com
SUMMARY:Managing-Leading and Coaching for Performance Workshop - Singapore
DESCRIPTION:
URL:https://girdghana.com/course/managing-leading-and-coaching-for-performance-workshop-singapore/
END:VEVENT
END:VCALENDAR