BEGIN:VCALENDAR
VERSION:2.0
PRODID:-//Gird Training - ECPv6.15.20//NONSGML v1.0//EN
CALSCALE:GREGORIAN
METHOD:PUBLISH
X-WR-CALNAME:Gird Training
X-ORIGINAL-URL:https://girdghana.com
X-WR-CALDESC:Events for Gird Training
REFRESH-INTERVAL;VALUE=DURATION:PT1H
X-Robots-Tag:noindex
X-PUBLISHED-TTL:PT1H
BEGIN:VTIMEZONE
TZID:UTC
BEGIN:STANDARD
TZOFFSETFROM:+0000
TZOFFSETTO:+0000
TZNAME:UTC
DTSTART:20250101T000000
END:STANDARD
END:VTIMEZONE
BEGIN:VEVENT
DTSTART;TZID=UTC:20260504T000000
DTEND;TZID=UTC:20260508T235959
DTSTAMP:20260426T014143
CREATED:20251106T123457Z
LAST-MODIFIED:20251106T123459Z
UID:7147-1777852800-1778284799@girdghana.com
SUMMARY:Strategic Thinking and Planning Training Program - Dubai
DESCRIPTION:
URL:https://girdghana.com/course/strategic-thinking-and-planning-training-program-dubai/
END:VEVENT
BEGIN:VEVENT
DTSTART;TZID=UTC:20260420T000000
DTEND;TZID=UTC:20260424T235959
DTSTAMP:20260426T014143
CREATED:20251106T120131Z
LAST-MODIFIED:20251106T120133Z
UID:7130-1776643200-1777075199@girdghana.com
SUMMARY:Organizational Leadership and Change Management Training Program - Singapore
DESCRIPTION:
URL:https://girdghana.com/course/organizational-leadership-and-change-management-training-program-singapore/
END:VEVENT
BEGIN:VEVENT
DTSTART;TZID=UTC:20260413T000000
DTEND;TZID=UTC:20260424T235959
DTSTAMP:20260426T014143
CREATED:20251106T122800Z
LAST-MODIFIED:20251106T122803Z
UID:7142-1776038400-1777075199@girdghana.com
SUMMARY:Financial Management for Development Projects and Effective Budget Execution Training Program - Dubai
DESCRIPTION:
URL:https://girdghana.com/course/financial-management-for-development-projects-and-effective-budget-execution-training-program-dubai/
END:VEVENT
BEGIN:VEVENT
DTSTART;TZID=UTC:20260413T000000
DTEND;TZID=UTC:20260417T235959
DTSTAMP:20260426T014143
CREATED:20251106T123019Z
LAST-MODIFIED:20251106T123137Z
UID:7144-1776038400-1776470399@girdghana.com
SUMMARY:Training Program: Carbon Accounting for Sustainability Reporting - Dubai
DESCRIPTION:
URL:https://girdghana.com/course/training-program-carbon-accounting-for-sustainability-reporting-dubai/
END:VEVENT
BEGIN:VEVENT
DTSTART;TZID=UTC:20260413T000000
DTEND;TZID=UTC:20260417T235959
DTSTAMP:20260426T014143
CREATED:20251106T122322Z
LAST-MODIFIED:20251106T122506Z
UID:7139-1776038400-1776470399@girdghana.com
SUMMARY:Public Debt Management Training Program - Dubai
DESCRIPTION:
URL:https://girdghana.com/course/public-debt-management-training-program-dubai/
END:VEVENT
BEGIN:VEVENT
DTSTART;TZID=UTC:20260413T000000
DTEND;TZID=UTC:20260417T235959
DTSTAMP:20260426T014143
CREATED:20251106T120853Z
LAST-MODIFIED:20251106T120854Z
UID:7135-1776038400-1776470399@girdghana.com
SUMMARY:HR Policies and Procedures and Implementation Development Training Program - London (UK)
DESCRIPTION:
URL:https://girdghana.com/course/hr-policies-and-procedures-and-implementation-development-training-program-london-uk/
END:VEVENT
BEGIN:VEVENT
DTSTART;TZID=UTC:20260406T000000
DTEND;TZID=UTC:20260410T235959
DTSTAMP:20260426T014143
CREATED:20251106T121247Z
LAST-MODIFIED:20251106T121249Z
UID:7137-1775433600-1775865599@girdghana.com
SUMMARY:Finance and Business Development for HR Training Program - Johannesburg
DESCRIPTION:
URL:https://girdghana.com/course/finance-and-business-development-for-hr-training-program-johannesburg/
END:VEVENT
BEGIN:VEVENT
DTSTART;TZID=UTC:20260406T000000
DTEND;TZID=UTC:20260410T235959
DTSTAMP:20260426T014143
CREATED:20251106T120324Z
LAST-MODIFIED:20251106T120435Z
UID:7132-1775433600-1775865599@girdghana.com
SUMMARY:Organizational Design and Development Training Program - Johannesburg
DESCRIPTION:
URL:https://girdghana.com/course/organizational-design-and-development-training-program-johannesburg/
END:VEVENT
BEGIN:VEVENT
DTSTART;TZID=UTC:20260406T000000
DTEND;TZID=UTC:20260410T235959
DTSTAMP:20260426T014143
CREATED:20251106T115905Z
LAST-MODIFIED:20251106T115907Z
UID:7128-1775433600-1775865599@girdghana.com
SUMMARY:Strategic Management Development for Leaders and Executive Training Program - London (UK)
DESCRIPTION:
URL:https://girdghana.com/course/strategic-management-development-for-leaders-and-executive-training-program-london-uk/
END:VEVENT
BEGIN:VEVENT
DTSTART;TZID=UTC:20260328T000000
DTEND;TZID=UTC:20260328T235959
DTSTAMP:20260426T014143
CREATED:20251106T113310Z
LAST-MODIFIED:20251106T113311Z
UID:7115-1774656000-1774742399@girdghana.com
SUMMARY:Public Sector Financial Management Workshop
DESCRIPTION:
URL:https://girdghana.com/course/public-sector-financial-management-workshop/
END:VEVENT
BEGIN:VEVENT
DTSTART;TZID=UTC:20260323T000000
DTEND;TZID=UTC:20260327T235959
DTSTAMP:20260426T014143
CREATED:20251106T113929Z
LAST-MODIFIED:20251106T113930Z
UID:7121-1774224000-1774655999@girdghana.com
SUMMARY:Advance Governance Risk and Compliance Workshop - Cape Town (South Africa)
DESCRIPTION:
URL:https://girdghana.com/course/advance-governance-risk-and-compliance-workshop-cape-town-south-africa/
END:VEVENT
BEGIN:VEVENT
DTSTART;TZID=UTC:20260323T000000
DTEND;TZID=UTC:20260327T235959
DTSTAMP:20260426T014143
CREATED:20251106T113515Z
LAST-MODIFIED:20251106T113516Z
UID:7117-1774224000-1774655999@girdghana.com
SUMMARY:High Impact Internal Audit and Enterprise Risk Management Training Program - Dubai
DESCRIPTION:
URL:https://girdghana.com/course/high-impact-internal-audit-and-enterprise-risk-management-training-program-dubai/
END:VEVENT
BEGIN:VEVENT
DTSTART;TZID=UTC:20260316T000000
DTEND;TZID=UTC:20260320T235959
DTSTAMP:20260426T014143
CREATED:20251106T114401Z
LAST-MODIFIED:20251106T114403Z
UID:7123-1773619200-1774051199@girdghana.com
SUMMARY:Enterprise Risk Management Training Program - Canada
DESCRIPTION:
URL:https://girdghana.com/course/enterprise-risk-management-training-program-canada/
END:VEVENT
BEGIN:VEVENT
DTSTART;TZID=UTC:20260316T000000
DTEND;TZID=UTC:20260320T235959
DTSTAMP:20260426T014143
CREATED:20251106T113708Z
LAST-MODIFIED:20251106T113710Z
UID:7119-1773619200-1774051199@girdghana.com
SUMMARY:High Impact Finance and Audit for Board and Directors Training Program - London (UK)
DESCRIPTION:
URL:https://girdghana.com/course/high-impact-finance-and-audit-for-board-and-directors-training-program-london-uk/
END:VEVENT
BEGIN:VEVENT
DTSTART;TZID=UTC:20260316T000000
DTEND;TZID=UTC:20260320T235959
DTSTAMP:20260426T014143
CREATED:20251106T113042Z
LAST-MODIFIED:20251106T113044Z
UID:7113-1773619200-1774051199@girdghana.com
SUMMARY:Performance Management: Setting Objectives and Conducting Appraisals Training Program - Accra
DESCRIPTION:
URL:https://girdghana.com/course/performance-management-setting-objectives-and-conducting-appraisals-training-program-accra/
END:VEVENT
BEGIN:VEVENT
DTSTART;TZID=UTC:20260316T000000
DTEND;TZID=UTC:20260320T235959
DTSTAMP:20260426T014143
CREATED:20251106T112359Z
LAST-MODIFIED:20251106T112400Z
UID:7109-1773619200-1774051199@girdghana.com
SUMMARY:Strategic Problem Solving\, Decision Making and Stakeholder Management for Better Results Training Program - London (UK)
DESCRIPTION:
URL:https://girdghana.com/course/strategic-problem-solving-decision-making-and-stakeholder-management-for-better-results-training-program-london-uk/
END:VEVENT
BEGIN:VEVENT
DTSTART;TZID=UTC:20260313T000000
DTEND;TZID=UTC:20260313T235959
DTSTAMP:20260426T014143
CREATED:20251106T112712Z
LAST-MODIFIED:20251106T112713Z
UID:7111-1773360000-1773446399@girdghana.com
SUMMARY:Managing Up\, Down and Across for Better Results Training Program - Accra
DESCRIPTION:
URL:https://girdghana.com/course/managing-up-down-and-across-for-better-results-training-program-accra/
END:VEVENT
BEGIN:VEVENT
DTSTART;TZID=UTC:20260309T000000
DTEND;TZID=UTC:20260313T235959
DTSTAMP:20260426T014143
CREATED:20251106T115238Z
LAST-MODIFIED:20251106T115657Z
UID:7125-1773014400-1773446399@girdghana.com
SUMMARY:Carbon Pricing and Emission Trading Training Program - Accra
DESCRIPTION:
URL:https://girdghana.com/course/carbon-pricing-and-emission-trading-training-program-accra/
END:VEVENT
BEGIN:VEVENT
DTSTART;TZID=UTC:20260223T000000
DTEND;TZID=UTC:20260227T235959
DTSTAMP:20260426T014143
CREATED:20251106T104614Z
LAST-MODIFIED:20251106T111210Z
UID:7096-1771804800-1772236799@girdghana.com
SUMMARY:Strategic Thinking and Planning Training Program - Accra
DESCRIPTION:
URL:https://girdghana.com/course/strategic-thinking-and-planning-training-program/
END:VEVENT
BEGIN:VEVENT
DTSTART;TZID=UTC:20260216T000000
DTEND;TZID=UTC:20260220T235959
DTSTAMP:20260426T014143
CREATED:20251106T111417Z
LAST-MODIFIED:20251106T111419Z
UID:7107-1771200000-1771631999@girdghana.com
SUMMARY:Project Management for Donor Funding Projects Training Program - Dubai
DESCRIPTION:
URL:https://girdghana.com/course/project-management-for-donor-funding-projects-training-program-dubai/
END:VEVENT
BEGIN:VEVENT
DTSTART;TZID=UTC:20260210T000000
DTEND;TZID=UTC:20260221T235959
DTSTAMP:20260426T014143
CREATED:20251106T105116Z
LAST-MODIFIED:20251106T105156Z
UID:7099-1770681600-1771718399@girdghana.com
SUMMARY:Strategic HR Management: Aligning with Organizational Vision\, Values and Policies (VVP) Training Program - Dubai
DESCRIPTION:
URL:https://girdghana.com/course/strategic-hr-management-aligning-with-organizational-vision-values-and-policies-vvp-training-program/
END:VEVENT
BEGIN:VEVENT
DTSTART;TZID=UTC:20260209T000000
DTEND;TZID=UTC:20260213T235959
DTSTAMP:20260426T014143
CREATED:20251106T101512Z
LAST-MODIFIED:20251106T110755Z
UID:7093-1770595200-1771027199@girdghana.com
SUMMARY:Transformational Change and Strategic Leadership Training Program - Dubai
DESCRIPTION:
URL:https://girdghana.com/course/transformational-change-and-strategic-leadership-training-program/
END:VEVENT
BEGIN:VEVENT
DTSTART;TZID=UTC:20260202T000000
DTEND;TZID=UTC:20260206T235959
DTSTAMP:20260426T014143
CREATED:20251106T105611Z
LAST-MODIFIED:20251106T110852Z
UID:7104-1769990400-1770422399@girdghana.com
SUMMARY:Strategic HR Management Training Program - Canada
DESCRIPTION:
URL:https://girdghana.com/course/strategic-hr-management-training-program-canada/
END:VEVENT
END:VCALENDAR