BEGIN:VCALENDAR
VERSION:2.0
PRODID:-//Gird Training - ECPv6.15.20//NONSGML v1.0//EN
CALSCALE:GREGORIAN
METHOD:PUBLISH
X-WR-CALNAME:Gird Training
X-ORIGINAL-URL:https://girdghana.com
X-WR-CALDESC:Events for Gird Training
REFRESH-INTERVAL;VALUE=DURATION:PT1H
X-Robots-Tag:noindex
X-PUBLISHED-TTL:PT1H
BEGIN:VTIMEZONE
TZID:UTC
BEGIN:STANDARD
TZOFFSETFROM:+0000
TZOFFSETTO:+0000
TZNAME:UTC
DTSTART:20250101T000000
END:STANDARD
END:VTIMEZONE
BEGIN:VEVENT
DTSTART;TZID=UTC:20260908T000000
DTEND;TZID=UTC:20260919T235959
DTSTAMP:20260426T041826
CREATED:20251106T143839Z
LAST-MODIFIED:20251106T143841Z
UID:7210-1788825600-1789862399@girdghana.com
SUMMARY:Strategic HR Management: Aligning with Organizational Vision\, Values and Policies (VVP) Training Program - London(UK)
DESCRIPTION:
URL:https://girdghana.com/course/strategic-hr-management-aligning-with-organizational-vision-values-and-policies-vvp-training-program-londonuk/
END:VEVENT
BEGIN:VEVENT
DTSTART;TZID=UTC:20260914T000000
DTEND;TZID=UTC:20260918T235959
DTSTAMP:20260426T041826
CREATED:20251106T143637Z
LAST-MODIFIED:20251106T143638Z
UID:7208-1789344000-1789775999@girdghana.com
SUMMARY:Corporate Governance and Public Sector Leadership (CGPSL) Training Program - Dubai
DESCRIPTION:
URL:https://girdghana.com/course/corporate-governance-and-public-sector-leadership-cgpsl-training-program-dubai/
END:VEVENT
BEGIN:VEVENT
DTSTART;TZID=UTC:20260914T000000
DTEND;TZID=UTC:20260918T235959
DTSTAMP:20260426T041826
CREATED:20251106T144636Z
LAST-MODIFIED:20251106T144638Z
UID:7216-1789344000-1789775999@girdghana.com
SUMMARY:Forensic Accounting and Fraud Control Workshop - London(UK)
DESCRIPTION:
URL:https://girdghana.com/course/forensic-accounting-and-fraud-control-workshop-londonuk/
END:VEVENT
BEGIN:VEVENT
DTSTART;TZID=UTC:20260922T000000
DTEND;TZID=UTC:20260926T235959
DTSTAMP:20260426T041826
CREATED:20251106T151510Z
LAST-MODIFIED:20251106T151511Z
UID:7218-1790035200-1790467199@girdghana.com
SUMMARY:Carbon Pricing and Emission Trading Training Program - Dubai
DESCRIPTION:
URL:https://girdghana.com/course/carbon-pricing-and-emission-trading-training-program-dubai/
END:VEVENT
BEGIN:VEVENT
DTSTART;TZID=UTC:20261005T000000
DTEND;TZID=UTC:20261009T235959
DTSTAMP:20260426T041826
CREATED:20251106T162135Z
LAST-MODIFIED:20251106T162223Z
UID:7220-1791158400-1791590399@girdghana.com
SUMMARY:Strategic Problem Solving\, Decision Making and Stakeholder Management for Better Results Training Program - Dubai
DESCRIPTION:
URL:https://girdghana.com/course/strategic-problem-solving-decision-making-and-stakeholder-management-for-better-results-training-program-dubai/
END:VEVENT
BEGIN:VEVENT
DTSTART;TZID=UTC:20261012T000000
DTEND;TZID=UTC:20261016T235959
DTSTAMP:20260426T041826
CREATED:20251106T162647Z
LAST-MODIFIED:20251106T162648Z
UID:7224-1791763200-1792195199@girdghana.com
SUMMARY:Organizational Design and Development Training Program - Dubai
DESCRIPTION:
URL:https://girdghana.com/course/organizational-design-and-development-training-program-dubai-2/
END:VEVENT
BEGIN:VEVENT
DTSTART;TZID=UTC:20261012T000000
DTEND;TZID=UTC:20261016T235959
DTSTAMP:20260426T041826
CREATED:20251106T162836Z
LAST-MODIFIED:20251106T162837Z
UID:7226-1791763200-1792195199@girdghana.com
SUMMARY:Finance and Business Development for HR Training Program - Accra
DESCRIPTION:
URL:https://girdghana.com/course/finance-and-business-development-for-hr-training-program-accra/
END:VEVENT
BEGIN:VEVENT
DTSTART;TZID=UTC:20261012T000000
DTEND;TZID=UTC:20261016T235959
DTSTAMP:20260426T041826
CREATED:20251106T163242Z
LAST-MODIFIED:20251106T163245Z
UID:7230-1791763200-1792195199@girdghana.com
SUMMARY:PPP Procurement and Contract Management Training Program - London(UK)
DESCRIPTION:
URL:https://girdghana.com/course/ppp-procurement-and-contract-management-training-program-londonuk/
END:VEVENT
BEGIN:VEVENT
DTSTART;TZID=UTC:20261020T000000
DTEND;TZID=UTC:20261031T235959
DTSTAMP:20260426T041826
CREATED:20251106T163106Z
LAST-MODIFIED:20251106T163107Z
UID:7228-1792454400-1793491199@girdghana.com
SUMMARY:Public Sector Financial Management Training Program - London(UK)
DESCRIPTION:
URL:https://girdghana.com/course/public-sector-financial-management-training-program-londonuk/
END:VEVENT
BEGIN:VEVENT
DTSTART;TZID=UTC:20261026T000000
DTEND;TZID=UTC:20261030T235959
DTSTAMP:20260426T041826
CREATED:20251106T162504Z
LAST-MODIFIED:20251106T162505Z
UID:7222-1792972800-1793404799@girdghana.com
SUMMARY:Public and Financial Sector Fraud Detection\, Prevention and Control Training Program - Dubai
DESCRIPTION:
URL:https://girdghana.com/course/public-and-financial-sector-fraud-detection-prevention-and-control-training-program-dubai/
END:VEVENT
BEGIN:VEVENT
DTSTART;TZID=UTC:20261026T000000
DTEND;TZID=UTC:20261030T235959
DTSTAMP:20260426T041826
CREATED:20251106T163429Z
LAST-MODIFIED:20251106T163430Z
UID:7232-1792972800-1793404799@girdghana.com
SUMMARY:Evaluation and Impact Assessment of Policies and Project Training Program - Accra
DESCRIPTION:
URL:https://girdghana.com/course/evaluation-and-impact-assessment-of-policies-and-project-training-program-accra-3/
END:VEVENT
BEGIN:VEVENT
DTSTART;TZID=UTC:20261102T000000
DTEND;TZID=UTC:20261106T235959
DTSTAMP:20260426T041826
CREATED:20251106T163646Z
LAST-MODIFIED:20251106T163647Z
UID:7234-1793577600-1794009599@girdghana.com
SUMMARY:Crises Management Training Program - Singapore
DESCRIPTION:
URL:https://girdghana.com/course/crises-management-training-program-singapore/
END:VEVENT
BEGIN:VEVENT
DTSTART;TZID=UTC:20261109T000000
DTEND;TZID=UTC:20261113T235959
DTSTAMP:20260426T041826
CREATED:20251106T164354Z
LAST-MODIFIED:20251106T164355Z
UID:7242-1794182400-1794614399@girdghana.com
SUMMARY:Sustainable Public Procurement Workshop: Strategy\, Policy and Best Practice - Dubai
DESCRIPTION:
URL:https://girdghana.com/course/sustainable-public-procurement-workshop-strategy-policy-and-best-practice-dubai-2/
END:VEVENT
BEGIN:VEVENT
DTSTART;TZID=UTC:20261109T000000
DTEND;TZID=UTC:20261113T235959
DTSTAMP:20260426T041826
CREATED:20251106T164538Z
LAST-MODIFIED:20251106T164539Z
UID:7244-1794182400-1794614399@girdghana.com
SUMMARY:Advance Governance Risk and Compliance Training Program - Dubai
DESCRIPTION:
URL:https://girdghana.com/course/advance-governance-risk-and-compliance-training-program-dubai/
END:VEVENT
BEGIN:VEVENT
DTSTART;TZID=UTC:20261109T000000
DTEND;TZID=UTC:20261113T235959
DTSTAMP:20260426T041826
CREATED:20251106T164857Z
LAST-MODIFIED:20251106T164859Z
UID:7248-1794182400-1794614399@girdghana.com
SUMMARY:IFRS S1 & S2 Sustainability Reporting Training Program - Dubai
DESCRIPTION:
URL:https://girdghana.com/course/ifrs-s1-s2-sustainability-reporting-training-program-dubai/
END:VEVENT
BEGIN:VEVENT
DTSTART;TZID=UTC:20261116T000000
DTEND;TZID=UTC:20261120T235959
DTSTAMP:20260426T041826
CREATED:20251106T163841Z
LAST-MODIFIED:20251106T163842Z
UID:7236-1794787200-1795219199@girdghana.com
SUMMARY:Strategic Planning and Leadership Training Program - London(UK)
DESCRIPTION:
URL:https://girdghana.com/course/strategic-planning-and-leadership-training-program-londonuk/
END:VEVENT
BEGIN:VEVENT
DTSTART;TZID=UTC:20261116T000000
DTEND;TZID=UTC:20261120T235959
DTSTAMP:20260426T041826
CREATED:20251106T163955Z
LAST-MODIFIED:20251106T163957Z
UID:7238-1794787200-1795219199@girdghana.com
SUMMARY:Negotiation and Value for Money Training Program - London(UK)
DESCRIPTION:
URL:https://girdghana.com/course/negotiation-and-value-for-money-training-program-londonuk/
END:VEVENT
BEGIN:VEVENT
DTSTART;TZID=UTC:20261116T000000
DTEND;TZID=UTC:20261120T235959
DTSTAMP:20260426T041826
CREATED:20251106T164135Z
LAST-MODIFIED:20251106T164137Z
UID:7240-1794787200-1795219199@girdghana.com
SUMMARY:Leadership Skills for HR Managers Training Program - Accra
DESCRIPTION:
URL:https://girdghana.com/course/leadership-skills-for-hr-managers-training-program-accra/
END:VEVENT
BEGIN:VEVENT
DTSTART;TZID=UTC:20261123T000000
DTEND;TZID=UTC:20261127T235959
DTSTAMP:20260426T041826
CREATED:20251106T164705Z
LAST-MODIFIED:20251106T164707Z
UID:7246-1795392000-1795823999@girdghana.com
SUMMARY:Executive Financial Management Analysis Training Program - Dubai
DESCRIPTION:
URL:https://girdghana.com/course/executive-financial-management-analysis-training-program-dubai/
END:VEVENT
BEGIN:VEVENT
DTSTART;TZID=UTC:20261123T000000
DTEND;TZID=UTC:20261127T235959
DTSTAMP:20260426T041826
CREATED:20251106T165052Z
LAST-MODIFIED:20251106T165054Z
UID:7250-1795392000-1795823999@girdghana.com
SUMMARY:PPP Project Finance and Infrastructure Training Program - London(UK)
DESCRIPTION:
URL:https://girdghana.com/course/ppp-project-finance-and-infrastructure-training-program-londonuk/
END:VEVENT
BEGIN:VEVENT
DTSTART;TZID=UTC:20261207T000000
DTEND;TZID=UTC:20261211T235959
DTSTAMP:20260426T041826
CREATED:20251106T165342Z
LAST-MODIFIED:20251106T165344Z
UID:7252-1796601600-1797033599@girdghana.com
SUMMARY:High Impact Leadership Training Program - Canada
DESCRIPTION:
URL:https://girdghana.com/course/high-impact-leadership-training-program-canada/
END:VEVENT
BEGIN:VEVENT
DTSTART;TZID=UTC:20261207T000000
DTEND;TZID=UTC:20261211T235959
DTSTAMP:20260426T041826
CREATED:20251106T165525Z
LAST-MODIFIED:20251106T165526Z
UID:7254-1796601600-1797033599@girdghana.com
SUMMARY:Career Development and Succession Training Program - London(UK)
DESCRIPTION:
URL:https://girdghana.com/course/career-development-and-succession-training-program-londonuk/
END:VEVENT
BEGIN:VEVENT
DTSTART;TZID=UTC:20261207T000000
DTEND;TZID=UTC:20261211T235959
DTSTAMP:20260426T041826
CREATED:20251106T165749Z
LAST-MODIFIED:20251106T165751Z
UID:7256-1796601600-1797033599@girdghana.com
SUMMARY:Performance Management: Setting Objectives and Conducting Appraisals Training Program -London(UK)
DESCRIPTION:
URL:https://girdghana.com/course/performance-management-setting-objectives-and-conducting-appraisals-training-program-londonuk/
END:VEVENT
BEGIN:VEVENT
DTSTART;TZID=UTC:20261207T000000
DTEND;TZID=UTC:20261211T235959
DTSTAMP:20260426T041826
CREATED:20251106T170102Z
LAST-MODIFIED:20251106T170104Z
UID:7258-1796601600-1797033599@girdghana.com
SUMMARY:Internal Control\, Compliance and Operations Management Training Program - Dubai
DESCRIPTION:
URL:https://girdghana.com/course/internal-control-compliance-and-operations-management-training-program-dubai-2/
END:VEVENT
BEGIN:VEVENT
DTSTART;TZID=UTC:20261214T000000
DTEND;TZID=UTC:20261218T235959
DTSTAMP:20260426T041826
CREATED:20251106T170325Z
LAST-MODIFIED:20251106T170327Z
UID:7260-1797206400-1797638399@girdghana.com
SUMMARY:Sustainability and Climate Change Management for Board and Directors Training Program - Seychelles
DESCRIPTION:
URL:https://girdghana.com/course/sustainability-and-climate-change-management-for-board-and-directors-training-program-seychelles-2/
END:VEVENT
END:VCALENDAR