BEGIN:VCALENDAR
VERSION:2.0
PRODID:-//Gird Training - ECPv6.15.20//NONSGML v1.0//EN
CALSCALE:GREGORIAN
METHOD:PUBLISH
X-ORIGINAL-URL:https://girdghana.com
X-WR-CALDESC:Events for Gird Training
REFRESH-INTERVAL;VALUE=DURATION:PT1H
X-Robots-Tag:noindex
X-PUBLISHED-TTL:PT1H
BEGIN:VTIMEZONE
TZID:UTC
BEGIN:STANDARD
TZOFFSETFROM:+0000
TZOFFSETTO:+0000
TZNAME:UTC
DTSTART:20250101T000000
END:STANDARD
END:VTIMEZONE
BEGIN:VEVENT
DTSTART;TZID=UTC:20260713T000000
DTEND;TZID=UTC:20260717T235959
DTSTAMP:20260425T205355
CREATED:20251106T134222Z
LAST-MODIFIED:20251106T134224Z
UID:7185-1783900800-1784332799@girdghana.com
SUMMARY:ESG and Green Public Financial Management: Sustainability and the Transition to Net Zero Training Program - Dubai
DESCRIPTION:
URL:https://girdghana.com/course/esg-and-green-public-financial-management-sustainability-and-the-transition-to-net-zero-training-program-dubai/
END:VEVENT
END:VCALENDAR