BEGIN:VCALENDAR
VERSION:2.0
PRODID:-//Gird Training - ECPv6.15.20//NONSGML v1.0//EN
CALSCALE:GREGORIAN
METHOD:PUBLISH
X-WR-CALNAME:Gird Training
X-ORIGINAL-URL:https://girdghana.com
X-WR-CALDESC:Events for Gird Training
REFRESH-INTERVAL;VALUE=DURATION:PT1H
X-Robots-Tag:noindex
X-PUBLISHED-TTL:PT1H
BEGIN:VTIMEZONE
TZID:UTC
BEGIN:STANDARD
TZOFFSETFROM:+0000
TZOFFSETTO:+0000
TZNAME:UTC
DTSTART:20250101T000000
END:STANDARD
END:VTIMEZONE
BEGIN:VEVENT
DTSTART;TZID=UTC:20260608T000000
DTEND;TZID=UTC:20260612T235959
DTSTAMP:20260425T192028
CREATED:20251106T132318Z
LAST-MODIFIED:20251106T132319Z
UID:7173-1780876800-1781308799@girdghana.com
SUMMARY:Internal Control\, Compliance and Operations Management Training Program - London(UK)
DESCRIPTION:
URL:https://girdghana.com/course/internal-control-compliance-and-operations-management-training-program-londonuk/
END:VEVENT
BEGIN:VEVENT
DTSTART;TZID=UTC:20260608T000000
DTEND;TZID=UTC:20260612T235959
DTSTAMP:20260425T192028
CREATED:20251106T133441Z
LAST-MODIFIED:20251106T133442Z
UID:7177-1780876800-1781308799@girdghana.com
SUMMARY:Executive Financial Management Analysis Training Program - London (UK)
DESCRIPTION:
URL:https://girdghana.com/course/executive-financial-management-analysis-training-program-london-uk/
END:VEVENT
END:VCALENDAR