BEGIN:VCALENDAR
VERSION:2.0
PRODID:-//Gird Training - ECPv6.15.20//NONSGML v1.0//EN
CALSCALE:GREGORIAN
METHOD:PUBLISH
X-WR-CALNAME:Gird Training
X-ORIGINAL-URL:https://girdghana.com
X-WR-CALDESC:Events for Gird Training
REFRESH-INTERVAL;VALUE=DURATION:PT1H
X-Robots-Tag:noindex
X-PUBLISHED-TTL:PT1H
BEGIN:VTIMEZONE
TZID:UTC
BEGIN:STANDARD
TZOFFSETFROM:+0000
TZOFFSETTO:+0000
TZNAME:UTC
DTSTART:20250101T000000
END:STANDARD
END:VTIMEZONE
BEGIN:VEVENT
DTSTART;TZID=UTC:20260511T000000
DTEND;TZID=UTC:20260515T235959
DTSTAMP:20260425T174125
CREATED:20251106T123645Z
LAST-MODIFIED:20251106T123646Z
UID:7149-1778457600-1778889599@girdghana.com
SUMMARY:Strategic Planning and Leadership Workshop - Dubai
DESCRIPTION:
URL:https://girdghana.com/course/strategic-planning-and-leadership-workshop-dubai/
END:VEVENT
BEGIN:VEVENT
DTSTART;TZID=UTC:20260511T000000
DTEND;TZID=UTC:20260515T235959
DTSTAMP:20260425T174125
CREATED:20251106T125743Z
LAST-MODIFIED:20251106T125744Z
UID:7153-1778457600-1778889599@girdghana.com
SUMMARY:Negotiation and Value for Money Training Program - Dubai
DESCRIPTION:
URL:https://girdghana.com/course/negotiation-and-value-for-money-training-program-dubai/
END:VEVENT
BEGIN:VEVENT
DTSTART;TZID=UTC:20260511T000000
DTEND;TZID=UTC:20260515T235959
DTSTAMP:20260425T174125
CREATED:20251106T125850Z
LAST-MODIFIED:20251106T125852Z
UID:7155-1778457600-1778889599@girdghana.com
SUMMARY:Retirement Planning Workshop - Accra
DESCRIPTION:
URL:https://girdghana.com/course/retirement-planning-workshop-accra/
END:VEVENT
END:VCALENDAR